BEGIN:VCALENDAR
VERSION:2.0
PRODID:icalendar-ruby
CALSCALE:GREGORIAN
METHOD:PUBLISH
BEGIN:VEVENT
DTSTAMP:20260419T170731Z
UID:82-62755@peterkin.org
DTSTART;VALUE=DATE:20261023
DTEND;VALUE=DATE:20261025
CLASS:PUBLIC
CREATED:20260319T102135
DESCRIPTION:\nWork Weekends are a great time for Peterkin supporters to sha
 re their strength and skills to build\, fix and maintain our spiritual hom
 e.  You don't have to be skilled in a craft to make a difference\; we hav
 e all types of work for all skill levels\, from cleaning\, organizing\, ga
 rdening and yard work\, to electrical\, plumbing and carpentry.   \nLodg
 ing for Friday and Saturday nights and meals on Saturday and Sunday will b
 e provided. \nWe look forward to working side-by-side with you!\n
LAST-MODIFIED:20260319T102135
LOCATION:Peterkin Camp and Conference Center
SUMMARY:Fall Work Weekend
URL;VALUE=URI:https://www.peterkin.org/events/fall-work-weekend/2026-10-23
END:VEVENT
END:VCALENDAR
